BEGIN:VCALENDAR
VERSION:2.0
METHOD:PUBLISH
PRODID:-//Agenda.ad//NONSGML v1.0//EN
BEGIN:VEVENT
CLASS:PUBLIC
UID:e326b1f10c6479f6b122eca69ad300e8@agenda.ad
DTSTAMP:20260424T093743Z
DTSTART:20191128T230000Z
DTEND:20200130T230000Z
SUMMARY:<span>Pessebre de Canillo &middot; &ldquo;Descobreix el Nadal&rdquo;&nbsp;</span>
DESCRIPTION:"Descobreix el Nadal"\n\nMés informació\nhttps://www.agend
 a.ad/activitat/canillo/mes-cultura/inauguracio-del-pessebre-
 de-canillo-“descobreix-el-nadal” \n\n\nOrganitza\nComú
  de Canillo
LOCATION:Canillo
SEQUENCE:0
TRANSP:OPAQUE
X-ALT-DESC;FMTTYPE=text/html:<!DOCTYPE HTML PUBLIC "-//W3C//DTD HTML 3.2//EN"><HTML><HEAD
 ><TITLE></TITLE></HEAD><BODY><FONT FACE="Arial" SIZE=2>"Desc
 obreix el Nadal"<br/><br/><b>Més informació</b><br/><a hre
 f="https://www.agenda.ad/activitat/canillo/mes-cultura/inaug
 uracio-del-pessebre-de-canillo-“descobreix-el-nadal” ">
 https://www.agenda.ad/activitat/canillo/mes-cultura/inaugura
 cio-del-pessebre-de-canillo-“descobreix-el-nadal” </a><
 br/><br/><br/><b>Organitza</b><br/>Comú de Canillo</FONT></
 BODY></HTML>
END:VEVENT
END:VCALENDAR